BEGIN:VCALENDAR
VERSION:2.0
PRODID:-//Waitara Alive - ECPv6.15.20//NONSGML v1.0//EN
CALSCALE:GREGORIAN
METHOD:PUBLISH
X-WR-CALNAME:Waitara Alive
X-ORIGINAL-URL:https://www.waitaraalive.co.nz
X-WR-CALDESC:Events for Waitara Alive
REFRESH-INTERVAL;VALUE=DURATION:PT1H
X-Robots-Tag:noindex
X-PUBLISHED-TTL:PT1H
BEGIN:VTIMEZONE
TZID:UTC
BEGIN:STANDARD
TZOFFSETFROM:+0000
TZOFFSETTO:+0000
TZNAME:UTC
DTSTART:20240101T000000
END:STANDARD
END:VTIMEZONE
BEGIN:VEVENT
DTSTART;TZID=UTC:20250917T070000
DTEND;TZID=UTC:20250917T083000
DTSTAMP:20260425T125121
CREATED:20250902T011818Z
LAST-MODIFIED:20250902T011818Z
UID:46254-1758092400-1758097800@www.waitaraalive.co.nz
SUMMARY:Business Breakfast
DESCRIPTION:
URL:https://www.waitaraalive.co.nz/event/business-breakfast/
LOCATION:RSA Waitara – 16 Queen Street
CATEGORIES:Business
ORGANIZER;CN="Waitara Alive":MAILTO:waitaraalive@outlook.com
END:VEVENT
END:VCALENDAR